BEGIN:VCALENDAR
VERSION:2.0
PRODID:icalendar-ruby
CALSCALE:GREGORIAN
METHOD:PUBLISH
BEGIN:VEVENT
DTSTAMP:20260419T132738Z
UID:d131550d-4033-4430-99b6-32bb542ab5ae
DTSTART:20250913T200000
DTEND:20250914T040000
DESCRIPTION:<h3><span>Strictly GQOM music event\, with carefully selected D
 J's to blow your Mind.</span></h3><p><br></p><p><span>Bring your dancing s
 hoes and the best moves to the best GQOM experience Cape Town has to offer
 .</span></p><p><br></p><p><span>No pictures/videos are allowed inside the 
 venue\, we are here to dance and receive therapy!</span></p><p><br></p><p>
 <strong>See you on the dance floor addicts!!</strong></p><p><em>#GqomThera
 py #GqomAddicts #GqomWave #GqomTillIDie</em></p><p><br></p><p><br></p>
LOCATION:10 NATAL ST\, PAARDEN EILAND\, CAPE TOWN
SUMMARY:GQOM THERAPY (CPT)
URL;VALUE=URI:https://keymusic.howler.co.za/GqomTherapyCPT3
END:VEVENT
END:VCALENDAR
